BEGIN:VCALENDAR
VERSION:2.0
PRODID:-//Mark Alan Wade - ECPv6.15.20//NONSGML v1.0//EN
CALSCALE:GREGORIAN
METHOD:PUBLISH
X-WR-CALNAME:Mark Alan Wade
X-ORIGINAL-URL:https://markalanwade.com
X-WR-CALDESC:Events for Mark Alan Wade
REFRESH-INTERVAL;VALUE=DURATION:PT1H
X-Robots-Tag:noindex
X-PUBLISHED-TTL:PT1H
BEGIN:VTIMEZONE
TZID:UTC
BEGIN:STANDARD
TZOFFSETFROM:+0000
TZOFFSETTO:+0000
TZNAME:UTC
DTSTART:20240101T000000
END:STANDARD
END:VTIMEZONE
BEGIN:VEVENT
DTSTART;VALUE=DATE:20250815
DTEND;VALUE=DATE:20250817
DTSTAMP:20260423T185440
CREATED:20250514T003246Z
LAST-MODIFIED:20250514T003246Z
UID:16105-1755216000-1755388799@markalanwade.com
SUMMARY:Redwood Dulcimer Day
DESCRIPTION:Come join the fun at the 25th annual Redwood Dulcimer Day! Workshops feature me\, Katie Moritz\, Janet Herman\, Steve Eulberg\, Neal Hellman\, Dusty Thornton\, and Laura Devine! Everything is ONLINE with Zoom: concerts and jams too! https://www.redwooddulcimerday.org/ \nA concert is on Friday the 15th at 5:00 Pacific Time.
URL:https://markalanwade.com/event/redwood_dulcimer_day/
LOCATION:Online!
ATTACH;FMTTYPE=image/png:https://markalanwade.com/wp-content/uploads/2025/05/Screenshot-2025-05-13-at-8.31.16 PM-e1747182736658.png
END:VEVENT
END:VCALENDAR