BEGIN:VCALENDAR
VERSION:2.0
PRODID:-//Mark Alan Wade - ECPv6.15.20//NONSGML v1.0//EN
CALSCALE:GREGORIAN
METHOD:PUBLISH
X-ORIGINAL-URL:https://markalanwade.com
X-WR-CALDESC:Events for Mark Alan Wade
REFRESH-INTERVAL;VALUE=DURATION:PT1H
X-Robots-Tag:noindex
X-PUBLISHED-TTL:PT1H
BEGIN:VTIMEZONE
TZID:UTC
BEGIN:STANDARD
TZOFFSETFROM:+0000
TZOFFSETTO:+0000
TZNAME:UTC
DTSTART:20240101T000000
END:STANDARD
END:VTIMEZONE
BEGIN:VEVENT
DTSTART;VALUE=DATE:20251107
DTEND;VALUE=DATE:20251110
DTSTAMP:20260422T103324
CREATED:20250413T141347Z
LAST-MODIFIED:20251027T155707Z
UID:16072-1762473600-1762732799@markalanwade.com
SUMMARY:North-East Ohio Hammered Dulcimer Weekend & Concert
DESCRIPTION:The North-East Ohio Hammered Dulcimer Weekend is an all-day\, weekend festival and concert for all levels of hammered dulcimer players led by Mark Alan Wade & Tina Bergmann. 2024’s guest instructor is Mary Lynn Michal from Maryland. NEO (knee-yo) is an ideal setting for all ability levels of hammered dulcimer participants with extended class sessions and an eclectic selection of workshop topics.  There will be helpful handouts\, vending\, instructional aids\, jam sessions\, concerts\, great food\, laughs\, fun\, and more! \nInfo: https://markalanwade.com/north-east-ohio-hammered-dulcimer-weekend/ \nSATURDAY CONCERT: We Dulcimers Three\nA highlight of this music festival is the Saturday night concert at 8:00pm featuring virtuoso hammered dulcimer performers Tina Bergmann\, Mary Lynn Michal\, and Mark Alan Wade. Come hear three of the best dulcimer players on the planet live in concert. The trio of dulcimer performers will showcase everything from classical favorites to traditional American and Irish gems played like you’ve never heard before! Doors open at 7:45. Admission is $12 at the door (children 17 and under are FREE). See below for parking and directions. \nWORKSHOP TOPICS:\nOur workshop offerings give direction to your development as musicians in fun and easy ways. We offer three tracks to meet you right where you are in your playing: Beginner\, Intermediate\, and Advanced. We have strategically chosen repertoire that is both rewarding to learn and that teaches musical concepts appropriate for each level. You’ll have so much fun\, you may not even realize you are learning!
URL:https://markalanwade.com/event/northeast-ohio-dulcimer-weekend/
LOCATION:Summit Christian School\, 3313 Northampton Rd\, Cuyahoga Falls\, OH\, 44223
ATTACH;FMTTYPE=image/jpeg:https://markalanwade.com/wp-content/uploads/2025/04/DPN-AD-2025-4-e1744553365336.jpeg
END:VEVENT
END:VCALENDAR