BEGIN:VCALENDAR
VERSION:2.0
PRODID:-//Mark Alan Wade - ECPv6.15.20//NONSGML v1.0//EN
CALSCALE:GREGORIAN
METHOD:PUBLISH
X-ORIGINAL-URL:https://markalanwade.com
X-WR-CALDESC:Events for Mark Alan Wade
REFRESH-INTERVAL;VALUE=DURATION:PT1H
X-Robots-Tag:noindex
X-PUBLISHED-TTL:PT1H
BEGIN:VTIMEZONE
TZID:UTC
BEGIN:STANDARD
TZOFFSETFROM:+0000
TZOFFSETTO:+0000
TZNAME:UTC
DTSTART:20250101T000000
END:STANDARD
END:VTIMEZONE
BEGIN:VEVENT
DTSTART;VALUE=DATE:20260205
DTEND;VALUE=DATE:20260209
DTSTAMP:20260422T044953
CREATED:20260203T014954Z
LAST-MODIFIED:20260203T134822Z
UID:16738-1770249600-1770595199@markalanwade.com
SUMMARY:QDF Winter Fest
DESCRIPTION:Get your All-Access pass to see ALL five concerts featuring the best of the best. Nearly 60 acts in total. And it’s all online! Tune in while you do your thing\, or settle in for a riveting night of music\, times FIVE! \nWhat if I can’t make all five?? \nNo problem! You can’t buy a SINGLE concert ticket for $25 these days\, and you get access to ALL five for that! \nThis ticket is your all-access-pass to over 12 hours of LIVE music performed by dozens of world-class performing artists. 5 concerts will span 4 days from Thursday\, February 5th through Sunday\, February 8th. \nThursday\, Friday\, & Saturday Concerts start at 7:15pm EST (6:15 pm CST) \nSunday will feature two concerts at 1:00pm EST and 5:00pm EST (Noon & 4:00pm CST) \n 
URL:https://markalanwade.com/event/qdf-winter-fest/
LOCATION:NC
ATTACH;FMTTYPE=image/png:https://markalanwade.com/wp-content/uploads/2026/02/Screenshot-2026-02-02-at-8.48.01-PM.png
END:VEVENT
END:VCALENDAR