BEGIN:VCALENDAR
VERSION:2.0
PRODID:-//Mark Alan Wade - ECPv6.15.20//NONSGML v1.0//EN
CALSCALE:GREGORIAN
METHOD:PUBLISH
X-ORIGINAL-URL:https://markalanwade.com
X-WR-CALDESC:Events for Mark Alan Wade
REFRESH-INTERVAL;VALUE=DURATION:PT1H
X-Robots-Tag:noindex
X-PUBLISHED-TTL:PT1H
BEGIN:VTIMEZONE
TZID:UTC
BEGIN:STANDARD
TZOFFSETFROM:+0000
TZOFFSETTO:+0000
TZNAME:UTC
DTSTART:20250101T000000
END:STANDARD
END:VTIMEZONE
BEGIN:VEVENT
DTSTART;VALUE=DATE:20260212
DTEND;VALUE=DATE:20260215
DTSTAMP:20260422T044948
CREATED:20251027T160221Z
LAST-MODIFIED:20251027T160321Z
UID:16394-1770854400-1771113599@markalanwade.com
SUMMARY:Central Florida Dulcimer Festival
DESCRIPTION:Commonly known as “Mt. Dora” this is such a great festival! \nMark Alan Wade’s Classes: \nFRI Class 1 HD Int \n“Oh Shenandoah” \nPerfect the magic of rolling chords on the hammered dulcimer! You’ll learn techniques to create the rich\, full sound of three- and four-note chords using just two hammers. We’ll explore a variety of styles\, from bottom-up rolls to mountain rolls. By the end\, your arrangements will sound lush\, complete\, and ready to impress! \nFRI Class 4 HD Adv \n“Lara’s Theme” from Dr. Zghivago \nLet’s learn this beautiful love song! It is the perfect tune to get comfortable with chromatic notes. The sweeping melody is reminiscent of Russian balalaikas and is always a crowd pleaser! \nFRI Class 5 HD Int \nCielito Lindo: a Mexican Love Song \nThis Mexican beauty is gorgeous waltz with syncopation. We’ll explore ways to play it in a traditional Mexican waltz style and add harmony too! Learn how to play tremolos and more in this fun workshop! \nSAT Class 6 HD Int \nThe Gospel of Mark \nWe’re going to take 2 of the most popular hymns and learn how to play them well so we’re ready for the next jam and be able to play with confidence. We’ll also learn some \nharmonies and fillers. \nSAT Class 6 HD Adv \n“It Had to Be You” \nThis catchy tune is as fun to play as it is to hear. We’ll learn how to play the melody while interjecting the chromatic counter melody that gives this piece it’s charm. Although it’s filled with hand independence\, it’s actually quite intuitive to play. \nSAT Class 9 HD Int \nAuthentically Irish: “Tuttle’s Reel” \nLet’s learn this insanely fun jig from my new book and learn what we can do to sound more Irish when we play it. Mark will show you some hammer patterns that will help put the emphasis on the right beats to sound Irish\, as well as some authentic Irish ornaments to add.
URL:https://markalanwade.com/event/central-florida-dulcimer-festival-3/
LOCATION:First Baptist Church of Mt. Dora\, 1000 E. 1st Ave.\, Mt. Dora\, FL\, 32757\, United States
ATTACH;FMTTYPE=image/png:https://markalanwade.com/wp-content/uploads/2024/01/Screenshot-2024-01-05-at-9.28.51-AM-e1704465038370.png
END:VEVENT
END:VCALENDAR