BEGIN:VCALENDAR
VERSION:2.0
PRODID:-//Mark Alan Wade - ECPv6.15.20//NONSGML v1.0//EN
CALSCALE:GREGORIAN
METHOD:PUBLISH
X-WR-CALNAME:Mark Alan Wade
X-ORIGINAL-URL:https://markalanwade.com
X-WR-CALDESC:Events for Mark Alan Wade
REFRESH-INTERVAL;VALUE=DURATION:PT1H
X-Robots-Tag:noindex
X-PUBLISHED-TTL:PT1H
BEGIN:VTIMEZONE
TZID:UTC
BEGIN:STANDARD
TZOFFSETFROM:+0000
TZOFFSETTO:+0000
TZNAME:UTC
DTSTART:20250101T000000
END:STANDARD
END:VTIMEZONE
BEGIN:VEVENT
DTSTART;TZID=UTC:20260228T100000
DTEND;TZID=UTC:20260228T203000
DTSTAMP:20260422T025509
CREATED:20260203T014200Z
LAST-MODIFIED:20260203T014200Z
UID:16735-1772272800-1772310600@markalanwade.com
SUMMARY:Bluegrass Dulcimer Day (VIRTUAL)
DESCRIPTION:This day will feature: \n1.  (6) hour-long Workshops by respected Hammered & Mountain Dulcimer teacher-players \n2.  Pre and Post-Festival Access to the DulcimerCrossing Course by Steve Eulberg: Playing Bluegrass on Mountain Dulcimer \n3.  An Opening Forum to meet our Instructors hosted by \n4.  Participant Interaction / Open Mic / Conversation / Optional Breakout Rooms \n5.  A Closing Jam led by the instructors. \n6.  A Library of Bluegrass Backing Tracks \n7. Archive videos of the day’s workshops and events.
URL:https://markalanwade.com/event/bluegrass-dulcimer-day-virtual/
LOCATION:NC
ATTACH;FMTTYPE=image/png:https://markalanwade.com/wp-content/uploads/2026/02/Screenshot-2026-02-02-at-8.41.09-PM.png
END:VEVENT
END:VCALENDAR