BEGIN:VCALENDAR
VERSION:2.0
PRODID:-//Mark Alan Wade - ECPv6.15.20//NONSGML v1.0//EN
CALSCALE:GREGORIAN
METHOD:PUBLISH
X-WR-CALNAME:Mark Alan Wade
X-ORIGINAL-URL:https://markalanwade.com
X-WR-CALDESC:Events for Mark Alan Wade
REFRESH-INTERVAL;VALUE=DURATION:PT1H
X-Robots-Tag:noindex
X-PUBLISHED-TTL:PT1H
BEGIN:VTIMEZONE
TZID:America/Halifax
BEGIN:DAYLIGHT
TZOFFSETFROM:-0400
TZOFFSETTO:-0300
TZNAME:ADT
DTSTART:20210314T060000
END:DAYLIGHT
BEGIN:STANDARD
TZOFFSETFROM:-0300
TZOFFSETTO:-0400
TZNAME:AST
DTSTART:20211107T050000
END:STANDARD
BEGIN:DAYLIGHT
TZOFFSETFROM:-0400
TZOFFSETTO:-0300
TZNAME:ADT
DTSTART:20220313T060000
END:DAYLIGHT
BEGIN:STANDARD
TZOFFSETFROM:-0300
TZOFFSETTO:-0400
TZNAME:AST
DTSTART:20221106T050000
END:STANDARD
BEGIN:DAYLIGHT
TZOFFSETFROM:-0400
TZOFFSETTO:-0300
TZNAME:ADT
DTSTART:20230312T060000
END:DAYLIGHT
BEGIN:STANDARD
TZOFFSETFROM:-0300
TZOFFSETTO:-0400
TZNAME:AST
DTSTART:20231105T050000
END:STANDARD
BEGIN:DAYLIGHT
TZOFFSETFROM:-0400
TZOFFSETTO:-0300
TZNAME:ADT
DTSTART:20240310T060000
END:DAYLIGHT
BEGIN:STANDARD
TZOFFSETFROM:-0300
TZOFFSETTO:-0400
TZNAME:AST
DTSTART:20241103T050000
END:STANDARD
BEGIN:DAYLIGHT
TZOFFSETFROM:-0400
TZOFFSETTO:-0300
TZNAME:ADT
DTSTART:20250309T060000
END:DAYLIGHT
BEGIN:STANDARD
TZOFFSETFROM:-0300
TZOFFSETTO:-0400
TZNAME:AST
DTSTART:20251102T050000
END:STANDARD
END:VTIMEZONE
BEGIN:VTIMEZONE
TZID:UTC
BEGIN:STANDARD
TZOFFSETFROM:+0000
TZOFFSETTO:+0000
TZNAME:UTC
DTSTART:20210101T000000
END:STANDARD
END:VTIMEZONE
BEGIN:VEVENT
DTSTART;VALUE=DATE:20240624
DTEND;VALUE=DATE:20240629
DTSTAMP:20260422T221832
CREATED:20240528T142029Z
LAST-MODIFIED:20240528T142029Z
UID:15201-1719187200-1719619199@markalanwade.com
SUMMARY:Kentucky Music Week
DESCRIPTION:Join me and a host of amazing instructors and participants for an unforgettable week of workshops and fun!
URL:https://markalanwade.com/event/kentucky-music-week-2/
LOCATION:Bardstown\, KY
ATTACH;FMTTYPE=image/jpeg:https://markalanwade.com/wp-content/uploads/2024/05/140321232_3896660903686908_4909092103467520883_n-e1744550154842.jpeg
END:VEVENT
BEGIN:VEVENT
DTSTART;VALUE=DATE:20240530
DTEND;VALUE=DATE:20240602
DTSTAMP:20260422T221832
CREATED:20240528T142734Z
LAST-MODIFIED:20240528T160222Z
UID:15204-1717027200-1717286399@markalanwade.com
SUMMARY:QuaranTUNE Summer Fest
DESCRIPTION:Online LIVE workshops from Mark and 65+ other great instructors! Just $25 gets you into ALL FIVE concerts!
URL:https://markalanwade.com/event/quarantune-summer-fest/
LOCATION:PA
ATTACH;FMTTYPE=image/jpeg:https://markalanwade.com/wp-content/uploads/2024/05/DPNAd-centerfold-QDFonly-copy-scaled-e1744552608200.jpg
END:VEVENT
BEGIN:VEVENT
DTSTART;VALUE=DATE:20240503
DTEND;VALUE=DATE:20240506
DTSTAMP:20260422T221832
CREATED:20240416T150815Z
LAST-MODIFIED:20240416T150815Z
UID:15025-1714694400-1714953599@markalanwade.com
SUMMARY:Bob's Barn 3-Day Workshops
DESCRIPTION:Join Mark on the Friday\, Saturday\, and Sunday morning\, May 3\, 4\, & 5 for a small group workshop for hammered and mountain dulcimer at a fraction of the cost of one-on-one lessons. Bob’s Barn is a picturesque location for workshops where you can safely leave your instrument set up overnight. Complete with an overhead dulcimer cam and projector\, there’s not a bad seat in the barn! Mark has curated engaging topics that will cover improving technique\, building new repertoire\, and enhancing hand-independence skills. These extended class sessions cater to multiple levels\, with Mark differentiating instruction to suit each student’s needs. Whether you’re a beginner or more advanced\, there will be valuable takeaways for everyone. Seating is limited\, so reserve your spot today! \nWorkshop participants get FREE admission to the Saturday concert! Admission for Non-Participants is $10 at the door.  \nNOTE: We’ll focus on Hammered Dulcimer on Friday and Saturday\, with a mini Penny Whistle 101 class at the end of the day (by popular demand!). I’ll have beginner and step-up instruments for sale if you’d like to give it a try! \nSunday’s classes will focus on Mountain Dulcimer only. Workshop pricing will prorate which days you will be participating.
URL:https://markalanwade.com/event/bobs-barn-3-day-workshops/
LOCATION:Bob’s Barn\, 1417 Johnson St\,\, Lake Odessa\, MI\, Lake Odessa\, MI 48849
ATTACH;FMTTYPE=image/jpeg:https://markalanwade.com/wp-content/uploads/2024/04/IMG_1602.jpg
END:VEVENT
BEGIN:VEVENT
DTSTART;VALUE=DATE:20240208
DTEND;VALUE=DATE:20240211
DTSTAMP:20260422T221832
CREATED:20240105T142056Z
LAST-MODIFIED:20240105T143337Z
UID:14760-1707350400-1707609599@markalanwade.com
SUMMARY:Central Florida Dulcimer Festival
DESCRIPTION:Commonly known as “Mt. Dora” this is such a great festival! \nMark Alan Wade’s Classes: \n\nFriday 10:15-11:30 Session 2F Hammered Dulcimer Beginner\n\nApplying III Commandments of Dulcimer Playing: All dulcimer teacher agree on these guiding principles for success. I’ll explain WHAT these are and WHY they’re needed. Then we’ll see how it makes playing easier when we apply them into fun tunes. Thou shalt not miss this!\n\n\nFriday 1:00-2:15 Session 4F Hammered Dulcimer Beginner\n\nThe HD Gospel of Mark: We’re going to take 2 or 3 of the most commonly played hymns in jams and learn how to play them so we’re ready for the next jam and be able to play with confidence. We’ll also learn some harmonies and fillers.\n\n\nFriday 4:15-5:30 Session 5G Hammered Dulcimer Intermediate\n\nIt Don’t Mean a Thang! Let’s learn a fun Swing tune. Irving Berlin’s “Puttin on the Ritz”. You’ll get comfortable playing in Em while you learn the syncopated rhythms and tune! Adding filler and harmony is a cinch in this tune because it fits so well on the HD!\n\n\nSaturday 10:15-11:30 Session 7G Hammered Dulcimer Intermediate\n\nOff The Beaten Path. “Softly She Whispers” is a NEO Celtic air reminiscent of O’Carolan. You’ll love the enchanting melody and interesting harmonies\, and we’ll choreograph the hand independence required to add chords. It’s on my “Serenade” CD if you want to preview it.\n\n\nSaturday 1:00-2:15  Session 8H Hammered Dulcimer Advanced\n\nCaptivating a Bored Audience. In this all-new arranging class we are going to examine how manipulating just 3 variable can keep the audience engaged. By expertly varying your arrangement’s textures\, dynamics\, and range\, you can keep your playing alive and interesting. This hands-on class will show you what your tunes are missing.\n\n\nSaturday 2:30-3:45 Session 9F Hammered Dulcimer Beginner\n\nFill ‘er Up. This class will show you what all the filler stuff is and what are WE supposed to do to keep the tune going. We’ll learn predictable patterns and fills and apple them to some common jam tunes.\n\n\nSaturday 4:15-5:30 Session 10H Hammered Dulcimer Advanced\n\nNacho Gramma’s “Flop- Eared Mule”. This class is about making a great arrangement from clever variations. I’ll show you how to make quick use of chromatic notes and how to create variations on the tune. For this class give “Flop-Eared Mule a try in the key of D before class.
URL:https://markalanwade.com/event/central-florida-dulcimer-festival-2/
LOCATION:First Baptist Church of Mt. Dora\, 1000 E. 1st Ave.\, Mt. Dora\, FL\, 32757\, United States
ATTACH;FMTTYPE=image/png:https://markalanwade.com/wp-content/uploads/2024/01/Screenshot-2024-01-05-at-9.28.51-AM-e1704465038370.png
END:VEVENT
BEGIN:VEVENT
DTSTART;VALUE=DATE:20240202
DTEND;VALUE=DATE:20240205
DTSTAMP:20260422T221832
CREATED:20240105T141037Z
LAST-MODIFIED:20240105T141250Z
UID:14754-1706832000-1707091199@markalanwade.com
SUMMARY:QuaranTUNE Winter Fest
DESCRIPTION:I’m teaching 7 FUN classes! \nRegistration opens on Jan. 7 at 3PM Eastern. \nConcerts on Feb. 1\, 2\, 3 at 7:00 PM \nConcerts on Sunday\, Feb. 4 at 1 and 4 (subject to change). \nWorkshops: \nFeb 2 & 3 for just $10.75
URL:https://markalanwade.com/event/quarantune-winter-fest/
LOCATION:PA
ATTACH;FMTTYPE=image/jpeg:https://markalanwade.com/wp-content/uploads/2024/01/happynewyearschedule-scaled.jpg
END:VEVENT
BEGIN:VEVENT
DTSTART;TZID=UTC:20240113T200000
DTEND;TZID=UTC:20240113T210000
DTSTAMP:20260422T221832
CREATED:20240105T135502Z
LAST-MODIFIED:20240105T135927Z
UID:14749-1705176000-1705179600@markalanwade.com
SUMMARY:Mohican Appalachian Acoustic Music Weekend
DESCRIPTION:Mohican Lodge and Conference Center – Perrysville\, OH\nJanuary 12-14\, 2024 (Martin Luther King Weekend)\n\n\n• Acoustic music all weekend (jamming throughout the lodge)\n• Country cooking in the dining room\n\n\nFriday\, January 12\, 2024\n\n\n8:00 PM — Open Stage in Ballroom\n\n\n• 10 Minute Set\n• Limited Mics Provided\n\n\nSaturday\, January 13\, 2024\n\n\n• Enjoy jamming\, listening to music\, visiting\, relaxing throughout the lodge.\n\n\nNote — Dining room opens for Saturday dinner at 4:30…..to avoid a long wait\, eat early!!\n\n\n8:00 PM – Evening Concert in Ballroom\n\n\nMARK ALAN WADE — Mark is a Northeast Ohio based classically trained musician and National Dulcimer Champion. He performs in orchestra halls and music festivals worldwide showcasing his characteristic mix of classical precision and raw\, traditional American style. Mark’s talent and entertaining spirit promise to provide an evening of good music and fun.\n\n\nSunday\, January 14\, 2024\n\n\n10:30 AM – Gospel Sing in Ballroom led by Norma Trotter\n\n\nNoon – 2:00 PM – Dining Room Music with Flo & Stan Hortz & Laura Tappan\n\n\nAll events are free and open to the public.\n\n\n* For Room Reservations – Contact Mohican Lodge – 419-938-5411 or mohicanlodge.com\n\n\n* For Event Information – Contact Barb Mast – 330-201-1748 or barbmast@aol.com
URL:https://markalanwade.com/event/mohican-appalachian-acoustic-music-weekend/
LOCATION:Mohican Lodge and Conference Center\, 1098 Ashland\, Co Rd 3006\, Perrysville\, OH\, 44864
ATTACH;FMTTYPE=image/png:https://markalanwade.com/wp-content/uploads/2023/09/Mark-Alan-Wade-41.png
END:VEVENT
BEGIN:VEVENT
DTSTART;TZID=UTC:20231208T190000
DTEND;TZID=UTC:20231208T200000
DTSTAMP:20260422T221832
CREATED:20231023T144324Z
LAST-MODIFIED:20231023T144413Z
UID:14526-1702062000-1702065600@markalanwade.com
SUMMARY:Concert: Christ Presbyterian Church
DESCRIPTION:
URL:https://markalanwade.com/event/concert-christ-presbyterian-church/
LOCATION:Christ Presbyterian Church\, 828 Blackhawk Rd.\, Beaver Falls\, PA\, 15010
ATTACH;FMTTYPE=image/png:https://markalanwade.com/wp-content/uploads/2023/09/Mark-Alan-Wade-41.png
END:VEVENT
BEGIN:VEVENT
DTSTART;TZID=UTC:20231205T183000
DTEND;TZID=UTC:20231205T193000
DTSTAMP:20260422T221832
CREATED:20231023T143926Z
LAST-MODIFIED:20231023T144007Z
UID:14523-1701801000-1701804600@markalanwade.com
SUMMARY:Stark Library Concert
DESCRIPTION:
URL:https://markalanwade.com/event/stark-library-concert/
LOCATION:Lake Branch Stark County Library\, 565 Market Ave SW\, Uniontown\, OH\, 44685
ATTACH;FMTTYPE=image/png:https://markalanwade.com/wp-content/uploads/2023/09/Mark-Alan-Wade-5.png
END:VEVENT
BEGIN:VEVENT
DTSTART;VALUE=DATE:20231103
DTEND;VALUE=DATE:20231106
DTSTAMP:20260422T221832
CREATED:20231023T143512Z
LAST-MODIFIED:20231023T143512Z
UID:14520-1698969600-1699228799@markalanwade.com
SUMMARY:North-East Ohio Hammered Dulcimer Weekend & Concert
DESCRIPTION:
URL:https://markalanwade.com/event/north-east-ohio-hammered-dulcimer-weekend-concert/
LOCATION:Summit Christian School\, 3313 Northampton Rd\, Cuyahoga Falls\, OH\, 44223
ATTACH;FMTTYPE=image/png:https://markalanwade.com/wp-content/uploads/2023/10/Screenshot-2023-10-19-at-1.26.09-PM-1-e1697736677474.png
END:VEVENT
BEGIN:VEVENT
DTSTART;VALUE=DATE:20230324
DTEND;VALUE=DATE:20230327
DTSTAMP:20260422T221832
CREATED:20230224T161751Z
LAST-MODIFIED:20230224T161751Z
UID:14015-1679616000-1679875199@markalanwade.com
SUMMARY:Ohio Valley Gathering
DESCRIPTION:
URL:https://markalanwade.com/event/ohio-valley-gathering/
LOCATION:Clarksville\, IN\, 505 Marriott Dr\, Clarksville\, IN\, 47129\, United States
END:VEVENT
BEGIN:VEVENT
DTSTART;TZID=UTC:20230318T190000
DTEND;TZID=UTC:20230318T203000
DTSTAMP:20260422T221832
CREATED:20230110T222000Z
LAST-MODIFIED:20230224T162053Z
UID:13957-1679166000-1679171400@markalanwade.com
SUMMARY:Mark Alan Wade and Shenanigans Concert
DESCRIPTION:Known for their authentic rendering of world music\, the Celtic band Shenanigans\, captivates\naudiences with their performances. This dynamic ensemble features Dr. Mark Alan Wade\, a former\nNational Champion Dulcimer player\, Cristina Wade on marimbula & Irish whistles\, and Randy\nClepper\, world renowned on Irish bouzouki. You won’t need your passports for this exciting concert\,\nbut you will be transported to Ireland for this enchanting performance on the week of Saint Paddy’s\nDay!
URL:https://markalanwade.com/event/mark-alan-wade-and-shenanigans-concert/
LOCATION:Marysville Uptown Theatre\, 121 S Main St\, Marysville\, OH\, 43040\, United States
ATTACH;FMTTYPE=image/jpeg:https://markalanwade.com/wp-content/uploads/2023/01/332504976_1466471940547974_9037044555854900276_n.jpg
END:VEVENT
BEGIN:VEVENT
DTSTART;TZID=UTC:20230317T190000
DTEND;TZID=UTC:20230317T203000
DTSTAMP:20260422T221832
CREATED:20230110T220837Z
LAST-MODIFIED:20230224T162326Z
UID:13954-1679079600-1679085000@markalanwade.com
SUMMARY:St. Patrick's Day Concert!
DESCRIPTION:Mark Alan Wade and Shenanigans in Concert! \nKnown for their authentic rendering of world music\, the Celtic band Shenanigans\, captivates audiences with their performances. This dynamic ensemble features Dr. Mark Alan Wade\, a former National Champion Dulcimer player\, Cristina Wade on marimbula & Irish whistles\, and Randy Clepper\, world renowned on Irish bouzouki. You won’t need your passports for this exciting concert\, but you will be transported to Ireland for this enchanting performance on the week of Saint Paddy’s Day! \n 
URL:https://markalanwade.com/event/st-patricks-day-concert/
LOCATION:First Church Of Cuyahoga Falls\, 245 Portage Trail\, Cuyahoga Falls\, OH\, 44221\, United States
ATTACH;FMTTYPE=image/jpeg:https://markalanwade.com/wp-content/uploads/2023/01/IMG_3748.jpg
END:VEVENT
BEGIN:VEVENT
DTSTART;VALUE=DATE:20230209
DTEND;VALUE=DATE:20230212
DTSTAMP:20260422T221832
CREATED:20230110T215421Z
LAST-MODIFIED:20230110T215445Z
UID:13950-1675900800-1676159999@markalanwade.com
SUMMARY:Central Florida Dulcimer Festival
DESCRIPTION:Workshops and Concerts from Mark and 23 others in sunny Mount Dora\, FL!
URL:https://markalanwade.com/event/central-florida-dulcimer-festival/
LOCATION:PA
ATTACH;FMTTYPE=image/jpeg:https://markalanwade.com/wp-content/uploads/2023/01/Central-Florida-Logo.jpeg
END:VEVENT
BEGIN:VEVENT
DTSTART;VALUE=DATE:20230202
DTEND;VALUE=DATE:20230206
DTSTAMP:20260422T221832
CREATED:20230110T214428Z
LAST-MODIFIED:20230110T215020Z
UID:13945-1675296000-1675641599@markalanwade.com
SUMMARY:QuaranTUNE Dulcimer Festival 9.0
DESCRIPTION:Online LIVE workshops from Mark and 70+ other great instructors! Just $10.75 per class! Just $25 gets you into ALL FIVE concerts!
URL:https://markalanwade.com/event/quarantune-dulcimer-festival-9-0/
LOCATION:Online!
ATTACH;FMTTYPE=image/jpeg:https://markalanwade.com/wp-content/uploads/2023/01/genericQDFlogoH.jpg
END:VEVENT
BEGIN:VEVENT
DTSTART;TZID=UTC:20221219T190000
DTEND;TZID=UTC:20221219T220000
DTSTAMP:20260422T221832
CREATED:20221206T212252Z
LAST-MODIFIED:20221206T212252Z
UID:13898-1671476400-1671487200@markalanwade.com
SUMMARY:QuaranTUNE Christmas Concert Series
DESCRIPTION:Join us for two concerts filled with holiday celebrations!\n30 of your favorite dulcimer players will gather online to play the sounds of the season at the 3rd annual QuaranTUNE Christmas Concert Series! These concerts will be live-streamed directly to you. Snuggle up with a hot drink or some freshly baked cookies and kick off the week with true Christmas spirit! \nSunday & Monday\, December 18-19\, 2022 \nA QuaranTUNE Christmas Concert Ticket makes a great gift!
URL:https://markalanwade.com/event/quarantune-christmas-concert-series-2/
LOCATION:PA
ATTACH;FMTTYPE=image/jpeg:https://markalanwade.com/wp-content/uploads/2022/12/QDFchristmas2022-copy.jpg
END:VEVENT
BEGIN:VEVENT
DTSTART;TZID=UTC:20221218T140000
DTEND;TZID=UTC:20221218T170000
DTSTAMP:20260422T221832
CREATED:20221206T211952Z
LAST-MODIFIED:20221206T212354Z
UID:13895-1671372000-1671382800@markalanwade.com
SUMMARY:QuaranTUNE Christmas Concert Series
DESCRIPTION:Join us for two concerts filled with holiday celebrations!\n30 of your favorite dulcimer players will gather online to play the sounds of the season at the 3rd annual QuaranTUNE Christmas Concert Series! These concerts will be live-streamed directly to you. Snuggle up with a hot drink or some freshly baked cookies and kick off the week with true Christmas spirit! \nI’m on at 4:30 Eastern! \nSunday & Monday\, December 18-19\, 2022 \nA QuaranTUNE Christmas Concert Ticket makes a great gift!
URL:https://markalanwade.com/event/quarantune-christmas-concert-series/
LOCATION:PA
ATTACH;FMTTYPE=image/jpeg:https://markalanwade.com/wp-content/uploads/2022/12/QDFchristmas2022-copy.jpg
END:VEVENT
BEGIN:VEVENT
DTSTART;TZID=UTC:20221211T150000
DTEND;TZID=UTC:20221211T173000
DTSTAMP:20260422T221832
CREATED:20221130T144129Z
LAST-MODIFIED:20221130T144129Z
UID:13875-1670770800-1670779800@markalanwade.com
SUMMARY:Mark Alan Wade & Randy Clepper Concert
DESCRIPTION:An Irish Christmas Concert with Mark Alan Wade & Randy Clepper. \nThis concert will feature two renowned virtuosos in world music\, Mark Alan Wade & Randy Clepper\, in an Irish inspired Christmas program. Mark\, a National Hammered Dulcimer Champion\, is among the best dulcimer players in the world. With his doctorate degree in music\, he performs stunning arrangements of classical masterpieces and world music alike. Likewise\, Randy Clepper is among the most sought after Irish Bouzouki players. A master of Irish music\, he has performed all over the US\, Ireland\, and even as far as Israel. Together\, their program presents virtuosic performances of unusual instruments playing Advent and Christmas favorites\, along with other Celtic and Irish traditional pieces for an unforgettable afternoon of music.
URL:https://markalanwade.com/event/mark-alan-wade-randy-clepper-concert/
LOCATION:Sylvania First United Methodist Church\, 7000 Erie St\, Sylvania\, Ohio\, 43560
ATTACH;FMTTYPE=image/jpeg:https://markalanwade.com/wp-content/uploads/2022/11/Facetune_09-09-2022-16-46-28.jpeg
END:VEVENT
BEGIN:VEVENT
DTSTART;TZID=UTC:20221204T190000
DTEND;TZID=UTC:20221204T203000
DTSTAMP:20260422T221832
CREATED:20221130T143218Z
LAST-MODIFIED:20221130T143218Z
UID:13870-1670180400-1670185800@markalanwade.com
SUMMARY:Concert: Mountain Rose Concert Series
DESCRIPTION:
URL:https://markalanwade.com/event/concert-mountain-rose-concert-series/
LOCATION:Standing Rock Cultural Arts Center\, 300 N. Water St.\, Kent\, OH\, 44240\, United States
ATTACH;FMTTYPE=image/jpeg:https://markalanwade.com/wp-content/uploads/2022/11/IMG_2405-e1669818667832-scaled.jpg
ORGANIZER;CN="Folknet":MAILTO:mountainrose@folknet.org
END:VEVENT
BEGIN:VEVENT
DTSTART;VALUE=DATE:20221104
DTEND;VALUE=DATE:20221107
DTSTAMP:20260422T221832
CREATED:20221021T174231Z
LAST-MODIFIED:20221021T174835Z
UID:13802-1667520000-1667779199@markalanwade.com
SUMMARY:North-East Ohio Hammered Dulcimer Weekend IN PERSON!
DESCRIPTION:The North-East Ohio Dulcimer Weekend is an all-day\, weekend festival for all levels of hammered dulcimer players led by Mark Alan Wade & Tina Bergmann. 2022’s guest instructor is 2013 National Hammered Dulcimer Champion\, Katie Moritz from Yorkville\, IL. NEO is an ideal setting for all ability levels of hammered dulcimer participants with extended class sessions and an eclectic selection of workshop topics.  There will be helpful handouts\, vending\, instructional aids\, jam sessions\, concerts\, great food\, laughs\, fun\, and more!
URL:https://markalanwade.com/event/north-east-ohio-hammered-dulcimer-weekend-in-person/
LOCATION:Cuyahoga Falls\, OH\, 420 Washington Ave\, Cuyahoga Falls\, OH\, 44224\, United States
ATTACH;FMTTYPE=image/jpeg:https://markalanwade.com/wp-content/uploads/2022/10/NEO-Flyer-2022-AA-scaled.jpg
END:VEVENT
BEGIN:VEVENT
DTSTART;VALUE=DATE:20221015
DTEND;VALUE=DATE:20221020
DTSTAMP:20260422T221832
CREATED:20220318T153015Z
LAST-MODIFIED:20220318T153015Z
UID:12983-1665792000-1666223999@markalanwade.com
SUMMARY:Black Mountain Music Festival
DESCRIPTION:
URL:https://markalanwade.com/event/black-mountain-music-festival/
LOCATION:Black Mountain\, NC
END:VEVENT
BEGIN:VEVENT
DTSTART;VALUE=DATE:20220929
DTEND;VALUE=DATE:20221003
DTSTAMP:20260422T221832
CREATED:20220318T152904Z
LAST-MODIFIED:20220503T154753Z
UID:12981-1664409600-1664755199@markalanwade.com
SUMMARY:QuaranTUNE Dulcimer Festival
DESCRIPTION:The world’s LARGEST and best Dulcimer Festival\, right in your own home. Enjoy concerts and classes from over 70 of the world’s greatest dulcimer and instrumentalists from across the US and around the globe. Workshops are just $10! All-Access passes to the 5-Concert Series are just $25! That’s $5 a show!!
URL:https://markalanwade.com/event/quarantune-dulcimer-festival-2/
LOCATION:Online!
END:VEVENT
BEGIN:VEVENT
DTSTART;VALUE=DATE:20220915
DTEND;VALUE=DATE:20220919
DTSTAMP:20260422T221832
CREATED:20220324T153452Z
LAST-MODIFIED:20220324T153452Z
UID:13081-1663200000-1663545599@markalanwade.com
SUMMARY:Walnut Valley Association Festival
DESCRIPTION:The Walnut Valley Association was formed in 1972\, with its sole purpose to produce the Walnut Valley National Guitar Flat-Picking Championships Festival\, also known as the Flat-Picking Championships\, now known as the “Walnut Valley Festival” or simply “Winfield” to the long time attendees. \nStill the third week-end in September\, in Winfield\, Kansas\, at the Winfield Fairgrounds\, the Walnut Valley Festival has long prided itself on being educational as well as enjoyable\, but most of all\, the Festival is a homecoming. And a homecoming not just because of the music and how folks act\, but a coming home to a place in the soul and the heart with a spirit of celebration.
URL:https://markalanwade.com/event/walnut-valley-association-festival/
LOCATION:Winfield\, KS\, Winfield\, KS\, United States
ATTACH;FMTTYPE=image/jpeg:https://markalanwade.com/wp-content/uploads/2022/03/Winfield-Picture.jpg
END:VEVENT
BEGIN:VEVENT
DTSTART;VALUE=DATE:20220714
DTEND;VALUE=DATE:20220718
DTSTAMP:20260422T221832
CREATED:20220318T152736Z
LAST-MODIFIED:20220318T153059Z
UID:12978-1657756800-1658102399@markalanwade.com
SUMMARY:"Evart" Dulcimer FunFest
DESCRIPTION:
URL:https://markalanwade.com/event/evart-dulcimer-funfest/
LOCATION:Evart\, MI
END:VEVENT
BEGIN:VEVENT
DTSTART;VALUE=DATE:20220619
DTEND;VALUE=DATE:20220625
DTSTAMP:20260422T221832
CREATED:20220318T152629Z
LAST-MODIFIED:20220318T152803Z
UID:12975-1655596800-1656115199@markalanwade.com
SUMMARY:Kentucky Music Week
DESCRIPTION:
URL:https://markalanwade.com/event/kentucky-music-week/
LOCATION:Bardstown\, KY
END:VEVENT
BEGIN:VEVENT
DTSTART;TZID=America/Halifax:20220602T080000
DTEND;TZID=America/Halifax:20220605T170000
DTSTAMP:20260422T221832
CREATED:20220318T152522Z
LAST-MODIFIED:20220503T155047Z
UID:12973-1654156800-1654448400@markalanwade.com
SUMMARY:QuaranTUNE Dulcimer Festival
DESCRIPTION:
URL:https://markalanwade.com/event/quarantune-dulcimer-festival/
LOCATION:Online!
ATTACH;FMTTYPE=image/jpeg:https://markalanwade.com/wp-content/uploads/2022/03/QDF-7.0-FB-Header.jpeg
END:VEVENT
BEGIN:VEVENT
DTSTART;VALUE=DATE:20220519
DTEND;VALUE=DATE:20220523
DTSTAMP:20260422T221832
CREATED:20220318T152339Z
LAST-MODIFIED:20220318T152339Z
UID:12970-1652918400-1653263999@markalanwade.com
SUMMARY:Hammered Dulcimer Rendezvous
DESCRIPTION:
URL:https://markalanwade.com/event/hammered-dulcimer-rendezvous/
LOCATION:Sandy\, OR
END:VEVENT
BEGIN:VEVENT
DTSTART;TZID=UTC:20220508T160000
DTEND;TZID=UTC:20220508T170000
DTSTAMP:20260422T221832
CREATED:20220503T154327Z
LAST-MODIFIED:20220503T154327Z
UID:13326-1652025600-1652029200@markalanwade.com
SUMMARY:Soloist: Kalamazoo Junior Symphony Orchestra
DESCRIPTION:Mark will be performing the solo cimbalom part on the Háry János Suite\, by Zoltan Kodály.
URL:https://markalanwade.com/event/soloist-kalamazoo-junior-symphony-orchestra/
LOCATION:Chenery Auditorium\, 714 S. Westnedge Ave.\, Kalamazoo\, 49007\, United States
END:VEVENT
BEGIN:VEVENT
DTSTART;VALUE=DATE:20220422
DTEND;VALUE=DATE:20220425
DTSTAMP:20260422T221832
CREATED:20220318T152217Z
LAST-MODIFIED:20220318T152217Z
UID:12967-1650585600-1650844799@markalanwade.com
SUMMARY:Poconos Dulcimer Festival
DESCRIPTION:
URL:https://markalanwade.com/event/poconos-dulcimer-festival/
LOCATION:East Stroudsburg\, PA
END:VEVENT
BEGIN:VEVENT
DTSTART;VALUE=DATE:20220325
DTEND;VALUE=DATE:20220328
DTSTAMP:20260422T221832
CREATED:20220318T152016Z
LAST-MODIFIED:20220318T152016Z
UID:12964-1648166400-1648425599@markalanwade.com
SUMMARY:Upper Potomac Spring Music Weekend
DESCRIPTION:
URL:https://markalanwade.com/event/upper-potomac-spring-music-weekend/
LOCATION:Online!
END:VEVENT
END:VCALENDAR