BEGIN:VCALENDAR
VERSION:2.0
PRODID:-//Mark Alan Wade - ECPv6.15.20//NONSGML v1.0//EN
CALSCALE:GREGORIAN
METHOD:PUBLISH
X-WR-CALNAME:Mark Alan Wade
X-ORIGINAL-URL:https://markalanwade.com
X-WR-CALDESC:Events for Mark Alan Wade
REFRESH-INTERVAL;VALUE=DURATION:PT1H
X-Robots-Tag:noindex
X-PUBLISHED-TTL:PT1H
BEGIN:VTIMEZONE
TZID:UTC
BEGIN:STANDARD
TZOFFSETFROM:+0000
TZOFFSETTO:+0000
TZNAME:UTC
DTSTART:20250101T000000
END:STANDARD
END:VTIMEZONE
BEGIN:VEVENT
DTSTART;VALUE=DATE:20260314
DTEND;VALUE=DATE:20260316
DTSTAMP:20260422T010521
CREATED:20260205T004135Z
LAST-MODIFIED:20260205T004135Z
UID:16750-1773446400-1773619199@markalanwade.com
SUMMARY:QDF Saint Patrick's Day Irish Concert and Jam
DESCRIPTION:QDF Saint Patrick’s Day Irish Concert and Jam\nLIVE and Online\, March 14th at 7pm Eastern is an Irish Jam. Concert ticket holders will get FREE copies of the QDF Irish Jam booklets! \nMarch 15th at 7pm Eastern: Irish Concert featuring Ilace Mears\, Stephen Seifert\, Timothy Seaman\, Molly McCormack\, Katie Moritz\, Jessica Comeau\, Joe Collins\, Randy Clepper & John Sherman\, and ME!
URL:https://markalanwade.com/event/qdf-saint-patricks-day-irish-concert-and-jam/
LOCATION:NC
ATTACH;FMTTYPE=image/jpeg:https://markalanwade.com/wp-content/uploads/2026/02/QDF-St-Patricks-Day-Ad.jpg
END:VEVENT
END:VCALENDAR