BEGIN:VCALENDAR
VERSION:2.0
PRODID:-//Mark Alan Wade - ECPv6.15.20//NONSGML v1.0//EN
CALSCALE:GREGORIAN
METHOD:PUBLISH
X-ORIGINAL-URL:https://markalanwade.com
X-WR-CALDESC:Events for Mark Alan Wade
REFRESH-INTERVAL;VALUE=DURATION:PT1H
X-Robots-Tag:noindex
X-PUBLISHED-TTL:PT1H
BEGIN:VTIMEZONE
TZID:UTC
BEGIN:STANDARD
TZOFFSETFROM:+0000
TZOFFSETTO:+0000
TZNAME:UTC
DTSTART:20250101T000000
END:STANDARD
END:VTIMEZONE
BEGIN:VEVENT
DTSTART;VALUE=DATE:20260518
DTEND;VALUE=DATE:20260523
DTSTAMP:20260422T010659
CREATED:20260326T224527Z
LAST-MODIFIED:20260326T224527Z
UID:17155-1779062400-1779494399@markalanwade.com
SUMMARY:Dulcimers at Halsway
DESCRIPTION:We are delighted to welcome back Nonsuch Dulcimer Club to host another packed workshop week offering practical guidance on playing the dulcimer. Featuring superb tutors from the USA and UK. There will also be times to socialise and play informally\, plus informal evening concerts from the tutors – and from participants!
URL:https://markalanwade.com/event/dulcimers-at-halsway/
LOCATION:Halsway Manor\, Halsway Lane\, Near Crowcombe\, Somerset\, TA4 4BD\, United Kingdom
ATTACH;FMTTYPE=image/png:https://markalanwade.com/wp-content/uploads/2026/03/Screenshot-2026-03-26-at-6.43.52-PM-e1774565085667.png
END:VEVENT
END:VCALENDAR